BEGIN:VCALENDAR
VERSION:2.0
PRODID:-//Coastal Calligraphers Guild - ECPv6.15.20//NONSGML v1.0//EN
CALSCALE:GREGORIAN
METHOD:PUBLISH
X-ORIGINAL-URL:https://coastalcalligraphersguild.org
X-WR-CALDESC:Events for Coastal Calligraphers Guild
REFRESH-INTERVAL;VALUE=DURATION:PT1H
X-Robots-Tag:noindex
X-PUBLISHED-TTL:PT1H
BEGIN:VTIMEZONE
TZID:America/New_York
BEGIN:DAYLIGHT
TZOFFSETFROM:-0500
TZOFFSETTO:-0400
TZNAME:EDT
DTSTART:20190310T070000
END:DAYLIGHT
BEGIN:STANDARD
TZOFFSETFROM:-0400
TZOFFSETTO:-0500
TZNAME:EST
DTSTART:20191103T060000
END:STANDARD
BEGIN:DAYLIGHT
TZOFFSETFROM:-0500
TZOFFSETTO:-0400
TZNAME:EDT
DTSTART:20200308T070000
END:DAYLIGHT
BEGIN:STANDARD
TZOFFSETFROM:-0400
TZOFFSETTO:-0500
TZNAME:EST
DTSTART:20201101T060000
END:STANDARD
BEGIN:DAYLIGHT
TZOFFSETFROM:-0500
TZOFFSETTO:-0400
TZNAME:EDT
DTSTART:20210314T070000
END:DAYLIGHT
BEGIN:STANDARD
TZOFFSETFROM:-0400
TZOFFSETTO:-0500
TZNAME:EST
DTSTART:20211107T060000
END:STANDARD
END:VTIMEZONE
BEGIN:VEVENT
DTSTART;TZID=America/New_York:20201101T130000
DTEND;TZID=America/New_York:20201101T170000
DTSTAMP:20260425T073142
CREATED:20201003T165716Z
LAST-MODIFIED:20201003T181118Z
UID:978-1604235600-1604250000@coastalcalligraphersguild.org
SUMMARY:November - Geometric Design Part 1
DESCRIPTION:Hosts Debbie and Jim Bennett (Part 1 of 2)
URL:https://coastalcalligraphersguild.org/event/geometric-design-part-1/
LOCATION:Zoom
ORGANIZER;CN="Debbie and Jim Bennett":MAILTO:shire19@msn.com
END:VEVENT
END:VCALENDAR