BEGIN:VCALENDAR
VERSION:2.0
PRODID:-//Coastal Calligraphers Guild - ECPv6.15.20//NONSGML v1.0//EN
CALSCALE:GREGORIAN
METHOD:PUBLISH
X-WR-CALNAME:Coastal Calligraphers Guild
X-ORIGINAL-URL:https://coastalcalligraphersguild.org
X-WR-CALDESC:Events for Coastal Calligraphers Guild
REFRESH-INTERVAL;VALUE=DURATION:PT1H
X-Robots-Tag:noindex
X-PUBLISHED-TTL:PT1H
BEGIN:VTIMEZONE
TZID:America/New_York
BEGIN:DAYLIGHT
TZOFFSETFROM:-0500
TZOFFSETTO:-0400
TZNAME:EDT
DTSTART:20210314T070000
END:DAYLIGHT
BEGIN:STANDARD
TZOFFSETFROM:-0400
TZOFFSETTO:-0500
TZNAME:EST
DTSTART:20211107T060000
END:STANDARD
BEGIN:DAYLIGHT
TZOFFSETFROM:-0500
TZOFFSETTO:-0400
TZNAME:EDT
DTSTART:20220313T070000
END:DAYLIGHT
BEGIN:STANDARD
TZOFFSETFROM:-0400
TZOFFSETTO:-0500
TZNAME:EST
DTSTART:20221106T060000
END:STANDARD
BEGIN:DAYLIGHT
TZOFFSETFROM:-0500
TZOFFSETTO:-0400
TZNAME:EDT
DTSTART:20230312T070000
END:DAYLIGHT
BEGIN:STANDARD
TZOFFSETFROM:-0400
TZOFFSETTO:-0500
TZNAME:EST
DTSTART:20231105T060000
END:STANDARD
END:VTIMEZONE
BEGIN:VEVENT
DTSTART;TZID=America/New_York:20220206T130000
DTEND;TZID=America/New_York:20220206T170000
DTSTAMP:20260424T073805
CREATED:20210905T203121Z
LAST-MODIFIED:20210905T211117Z
UID:1177-1644152400-1644166800@coastalcalligraphersguild.org
SUMMARY:Feb 2022 | Picket Fence with Fred Reckker
DESCRIPTION:Location to be determined. This meeting includes a general meeting prior to play.
URL:https://coastalcalligraphersguild.org/event/feb-2022-picket-fence-with-fred-reckker/
ORGANIZER;CN="Fred Reckker":MAILTO:freckker@icloud.com
END:VEVENT
END:VCALENDAR