BEGIN:VCALENDAR
VERSION:2.0
PRODID:-//Coastal Calligraphers Guild - ECPv6.15.20//NONSGML v1.0//EN
CALSCALE:GREGORIAN
METHOD:PUBLISH
X-ORIGINAL-URL:https://coastalcalligraphersguild.org
X-WR-CALDESC:Events for Coastal Calligraphers Guild
REFRESH-INTERVAL;VALUE=DURATION:PT1H
X-Robots-Tag:noindex
X-PUBLISHED-TTL:PT1H
BEGIN:VTIMEZONE
TZID:America/New_York
BEGIN:DAYLIGHT
TZOFFSETFROM:-0500
TZOFFSETTO:-0400
TZNAME:EDT
DTSTART:20210314T070000
END:DAYLIGHT
BEGIN:STANDARD
TZOFFSETFROM:-0400
TZOFFSETTO:-0500
TZNAME:EST
DTSTART:20211107T060000
END:STANDARD
BEGIN:DAYLIGHT
TZOFFSETFROM:-0500
TZOFFSETTO:-0400
TZNAME:EDT
DTSTART:20220313T070000
END:DAYLIGHT
BEGIN:STANDARD
TZOFFSETFROM:-0400
TZOFFSETTO:-0500
TZNAME:EST
DTSTART:20221106T060000
END:STANDARD
BEGIN:DAYLIGHT
TZOFFSETFROM:-0500
TZOFFSETTO:-0400
TZNAME:EDT
DTSTART:20230312T070000
END:DAYLIGHT
BEGIN:STANDARD
TZOFFSETFROM:-0400
TZOFFSETTO:-0500
TZNAME:EST
DTSTART:20231105T060000
END:STANDARD
END:VTIMEZONE
BEGIN:VEVENT
DTSTART;TZID=America/New_York:20220501T130000
DTEND;TZID=America/New_York:20220501T170000
DTSTAMP:20260422T034121
CREATED:20210905T203909Z
LAST-MODIFIED:20210905T203909Z
UID:1184-1651410000-1651424400@coastalcalligraphersguild.org
SUMMARY:May 2022 | Flat Brush Flowers with Ann Pasquier
DESCRIPTION:Location to be determined.
URL:https://coastalcalligraphersguild.org/event/may-2022-flat-brush-flowers-with-ann-pasquier/
ORGANIZER;CN="Ann Pasquier":MAILTO:apasquier@comcast.net
END:VEVENT
END:VCALENDAR