BEGIN:VCALENDAR
VERSION:2.0
PRODID:-//Coastal Calligraphers Guild - ECPv6.15.20//NONSGML v1.0//EN
CALSCALE:GREGORIAN
METHOD:PUBLISH
X-WR-CALNAME:Coastal Calligraphers Guild
X-ORIGINAL-URL:https://coastalcalligraphersguild.org
X-WR-CALDESC:Events for Coastal Calligraphers Guild
REFRESH-INTERVAL;VALUE=DURATION:PT1H
X-Robots-Tag:noindex
X-PUBLISHED-TTL:PT1H
BEGIN:VTIMEZONE
TZID:America/New_York
BEGIN:DAYLIGHT
TZOFFSETFROM:-0500
TZOFFSETTO:-0400
TZNAME:EDT
DTSTART:20210314T070000
END:DAYLIGHT
BEGIN:STANDARD
TZOFFSETFROM:-0400
TZOFFSETTO:-0500
TZNAME:EST
DTSTART:20211107T060000
END:STANDARD
BEGIN:DAYLIGHT
TZOFFSETFROM:-0500
TZOFFSETTO:-0400
TZNAME:EDT
DTSTART:20220313T070000
END:DAYLIGHT
BEGIN:STANDARD
TZOFFSETFROM:-0400
TZOFFSETTO:-0500
TZNAME:EST
DTSTART:20221106T060000
END:STANDARD
BEGIN:DAYLIGHT
TZOFFSETFROM:-0500
TZOFFSETTO:-0400
TZNAME:EDT
DTSTART:20230312T070000
END:DAYLIGHT
BEGIN:STANDARD
TZOFFSETFROM:-0400
TZOFFSETTO:-0500
TZNAME:EST
DTSTART:20231105T060000
END:STANDARD
END:VTIMEZONE
BEGIN:VEVENT
DTSTART;TZID=America/New_York:20221204T130000
DTEND;TZID=America/New_York:20221204T160000
DTSTAMP:20260421T160106
CREATED:20220804T165651Z
LAST-MODIFIED:20220804T165651Z
UID:1353-1670158800-1670169600@coastalcalligraphersguild.org
SUMMARY:Christmas & Holiday Party
DESCRIPTION:
URL:https://coastalcalligraphersguild.org/event/christmas-holiday-party/
LOCATION:Lissa Brand’s Clubhouse
ORGANIZER;CN="Laurie Yeandel":MAILTO:yeandels@gmail.com
END:VEVENT
END:VCALENDAR