BEGIN:VCALENDAR
VERSION:2.0
PRODID:-//Coastal Calligraphers Guild - ECPv6.15.20//NONSGML v1.0//EN
CALSCALE:GREGORIAN
METHOD:PUBLISH
X-WR-CALNAME:Coastal Calligraphers Guild
X-ORIGINAL-URL:https://coastalcalligraphersguild.org
X-WR-CALDESC:Events for Coastal Calligraphers Guild
REFRESH-INTERVAL;VALUE=DURATION:PT1H
X-Robots-Tag:noindex
X-PUBLISHED-TTL:PT1H
BEGIN:VTIMEZONE
TZID:America/New_York
BEGIN:DAYLIGHT
TZOFFSETFROM:-0500
TZOFFSETTO:-0400
TZNAME:EDT
DTSTART:20220313T070000
END:DAYLIGHT
BEGIN:STANDARD
TZOFFSETFROM:-0400
TZOFFSETTO:-0500
TZNAME:EST
DTSTART:20221106T060000
END:STANDARD
BEGIN:DAYLIGHT
TZOFFSETFROM:-0500
TZOFFSETTO:-0400
TZNAME:EDT
DTSTART:20230312T070000
END:DAYLIGHT
BEGIN:STANDARD
TZOFFSETFROM:-0400
TZOFFSETTO:-0500
TZNAME:EST
DTSTART:20231105T060000
END:STANDARD
BEGIN:DAYLIGHT
TZOFFSETFROM:-0500
TZOFFSETTO:-0400
TZNAME:EDT
DTSTART:20240310T070000
END:DAYLIGHT
BEGIN:STANDARD
TZOFFSETFROM:-0400
TZOFFSETTO:-0500
TZNAME:EST
DTSTART:20241103T060000
END:STANDARD
END:VTIMEZONE
BEGIN:VEVENT
DTSTART;TZID=America/New_York:20230507T130000
DTEND;TZID=America/New_York:20230507T160000
DTSTAMP:20260419T085337
CREATED:20230331T192626Z
LAST-MODIFIED:20230331T192702Z
UID:1374-1683464400-1683475200@coastalcalligraphersguild.org
SUMMARY:The Uncial Hand with Fred Reckker & Jim Bennett - Part 1
DESCRIPTION:
URL:https://coastalcalligraphersguild.org/event/the-uncial-hand-with-fred-reckker-jim-bennett/
LOCATION:Arts & Cultural Alliance of Sarasota\, 1226 N Tamiami Trail\, Sarasota\, FL\, 34236\, United States
ORGANIZER;CN="Debbie and Jim Bennett":MAILTO:shire19@msn.com
END:VEVENT
END:VCALENDAR